Workbook
Name _MainList: INDEX(tblVal[],0,MATCH(INDEX(Scholarship_costs[#This Row],COLUMN()-COLUMN(Scholarship_costs[])),tblVal[#Headers],0))
Name _Regions: INDEX(tblVal[Location],1,1):INDEX(tblVal[Location],COUNTA(tblVal[Location]))
Name _Shortterm: INDEX([1]!Validation[#Data],0,MATCH(INDEX([1]!Scholarshipsdetail[#This Row],COLUMN()-COLUMN([1]!Scholarshipsdetail[#Data])),[1]!Validation[#Headers],0))
Name _Shorttermuse: INDEX([1]!Validation[Short term],1,1):INDEX([1]!Validation[Short term],COUNTA([1]!Validation[Short term]))
Name _UseList: INDEX([0]!_MainList,1,1):INDEX([0]!_MainList,COUNTA([0]!_MainList))
Name _UseList: INDEX(_MainList,1,1):INDEX(_MainList,COUNTA(_MainList))
Name Type1: [1]Validation!$D$2:$D$4

Sheet Manual
A1: MANUAL
A2: General information about working with this document
A3: Please do not leave any rows empty inbetween filled rows. This will disrupt the import process.
A4: Please do not change or delete the column headers. This will disrupt the import process.
A5: Please fill in 0 if you do not wish to budget any costs for that specific year.
A6: Please only provide values with up to two decimal points.
A7: Please only fill in columns coloured yellow.
A8: Please do not delete any sheets. This will disrupt the import process.
A9: Please only add rows inside the yellow tables. Information added below the yellow tables will not be taken into account in the Overview tables.
A10: Please note that, when importing, the order in which you filled in the budget lines will be altered. Budget lines will be sorted by budget category.
A11: Sheets
A12: Overview | B12: General information about the project and totals for each budget line. The rate for the budget needs to be EUR. Please fill in the project title and both (if applicable) promoters on this sheet. The budget will be filled in automatically.
A13: Investment costs | B13: Goods with a service life of more than 1 year and with a value of more than the relevant institution-specific threshold for investments or indicatively 1,000 EUR, VAT excluded.
A14: Operational costs | B14: Operational costs are necessary and essential for achieving one or more results of the project. These costs stop once the project is completed.
A15: Personnel costs | B15: Personnel costs related to the employment of people contracted by the partner institution, such as the salary of the IUC project manager (budgetted in PSU). Employment contracts in partner countries are only possible if there is a link with the IUC partner institution.
A16: Scholarship costs | B16: These costs are linked to the scholarship trajectories provided. A project scholarship’s general principle is that it contributes to capacity building at the partner institution's involved department. Individuals who are awarded a research scholarship as part of a project must either be a member of the local institution’s staff or have a contractual relationship with the partner institution that ensures: 1/ deloading from normal duties – academic and/or administrative – during the PhD trajectory so that they can dedicate enough time to the research; 2/ their (re)integration or link with the partner institution after graduation. When awarding a local scholarship as part of an IUC the Local Partner Institution is expected to waive or limit tuition fees at the level of the Local Partner Institution, testifying hereby the support for the project from the local partner university in the form of a matching fund.
A17: Coordination costs | B17: This cost is a lump sum which covers administration and coordination costs as well as non-attributable institutional costs related to the institutional management of the project. The coordination cost is filled in automatically when in the overview sheet line 7 the appropriate description in the dropdown menu has been selected. If there is (a) partner promoter(s), coordination costs are shared between the Flemish and the partner institutions.
A18: General headings used
A19: Description | B19: Please provide a sufficient level of detail: e.g. accommodation and per diem for X number of trainers from country Y, for Z number of nights.
A20: Budget subcategory | B20: This is a dropdown menu where you select the appropriate subcategory.
A21: Number | B21: Number is a unity. This can be the number of items purchased, the number of travels, the number of facilitators, etcetera.
A22: Estimated cost | B22: You can add your formulas here to obtain the budget reflected in the cell.
A23: Comments | B23: A free field, to provide any comments on the budget.

Sheet OVERVIEW
A1: BUDGET PROPOSAL - OVERVIEW
A2: This is the format to fill in your project budget. This file should be imported in your project proposal in the VLIRUOS tool for calls for proposals, in module 5 (Planning and budgeting). This sheet provides an overview of the total budget of your project.
A4: Sub-Project title:
A5: Local Team Leader:
A6: Flemish Team Leader:
A7: PSU / Sub-Project:
A9: Budget lines | B9: AY 1 | C9: AY 2 | D9: AY3 | E9: AY4 | F9: AY5 | G9: TOTAL
B10: (€) | C10: (€) | D10: (€) | E10: (€) | F10: (€) | G10: (€)
A11: A. Investment costs | B11: =ROUND(SUM(B12:B14),2) -> 0 | C11: =ROUND(SUM(C12:C14),2) -> 0 | D11: =ROUND(SUM(D12:D14),2) -> 0 | E11: =ROUND(SUM(E12:E14),2) -> 0 | F11: =ROUND(SUM(F12:F14),2) -> 0 | G11: =ROUND(SUM(B11:F11),2) -> 0
A12: A.1. General investment costs | B12: =SUMIF(Investment_costs[Budget subcategory],OVERVIEW!$A12,Investment_costs[Estimated cost year 1]) -> 0 | C12: =SUMIF(Investment_costs[Budget subcategory],OVERVIEW!$A12,Investment_costs[Estimated cost year 2]) -> 0 | D12: =SUMIF(Investment_costs[Budget subcategory],OVERVIEW!$A12,Investment_costs[Estimated cost year 3]) -> 0 | E12: =SUMIF(Investment_costs[Budget subcategory],OVERVIEW!$A12,Investment_costs[Estimated cost year 4]) -> 0 | F12: =SUMIF(Investment_costs[Budget subcategory],OVERVIEW!$A12,Investment_costs[Estimated cost year 5]) -> 0 | G12: =ROUND(SUM(B12:F12),2) -> 0
A13: A.2. Vehicles | B13: =SUMIF(Investment_costs[Budget subcategory],OVERVIEW!$A13,Investment_costs[Estimated cost year 1]) -> 0 | C13: =SUMIF(Investment_costs[Budget subcategory],OVERVIEW!$A13,Investment_costs[Estimated cost year 2]) -> 0 | D13: =SUMIF(Investment_costs[Budget subcategory],OVERVIEW!$A13,Investment_costs[Estimated cost year 3]) -> 0 | E13: =SUMIF(Investment_costs[Budget subcategory],OVERVIEW!$A13,Investment_costs[Estimated cost year 4]) -> 0 | F13: =SUMIF(Investment_costs[Budget subcategory],OVERVIEW!$A13,Investment_costs[Estimated cost year 5]) -> 0 | G13: =ROUND(SUM(B13:F13),2) -> 0
A14: A.3. ICT | B14: =SUMIF(Investment_costs[Budget subcategory],OVERVIEW!$A14,Investment_costs[Estimated cost year 1]) -> 0 | C14: =SUMIF(Investment_costs[Budget subcategory],OVERVIEW!$A14,Investment_costs[Estimated cost year 2]) -> 0 | D14: =SUMIF(Investment_costs[Budget subcategory],OVERVIEW!$A14,Investment_costs[Estimated cost year 3]) -> 0 | E14: =SUMIF(Investment_costs[Budget subcategory],OVERVIEW!$A14,Investment_costs[Estimated cost year 4]) -> 0 | F14: =SUMIF(Investment_costs[Budget subcategory],OVERVIEW!$A14,Investment_costs[Estimated cost year 5]) -> 0 | G14: =ROUND(SUM(B14:F14),2) -> 0
A15: B. Operational costs | B15: =ROUND(SUM(B16:B20),2) -> 0 | C15: =ROUND(SUM(C16:C20),2) -> 0 | D15: =ROUND(SUM(D16:D20),2) -> 0 | E15: =ROUND(SUM(E16:E20),2) -> 0 | F15: =ROUND(SUM(F16:F20),2) -> 0 | G15: =ROUND(SUM(B15:F15),2) -> 0
A16: B.1. General: goods & services | B16: =SUMIF(Operational_costs[Budget subcategory],OVERVIEW!$A16,Operational_costs[Estimated cost year 1]) -> 0 | C16: =SUMIF(Operational_costs[Budget subcategory],OVERVIEW!$A16,Operational_costs[Estimated cost year 2]) -> 0 | D16: =SUMIF(Operational_costs[Budget subcategory],OVERVIEW!$A16,Operational_costs[Estimated cost year 3]) -> 0 | E16: =SUMIF(Operational_costs[Budget subcategory],OVERVIEW!$A16,Operational_costs[Estimated cost year 4]) -> 0 | F16: =SUMIF(Operational_costs[Budget subcategory],OVERVIEW!$A16,Operational_costs[Estimated cost year 5]) -> 0 | G16: =ROUND(SUM(B16:F16),2) -> 0
A17: B.2. Dissemination & uptake (events) | B17: =SUMIF(Operational_costs[Budget subcategory],OVERVIEW!$A17,Operational_costs[Estimated cost year 1]) -> 0 | C17: =SUMIF(Operational_costs[Budget subcategory],OVERVIEW!$A17,Operational_costs[Estimated cost year 2]) -> 0 | D17: =SUMIF(Operational_costs[Budget subcategory],OVERVIEW!$A17,Operational_costs[Estimated cost year 3]) -> 0 | E17: =SUMIF(Operational_costs[Budget subcategory],OVERVIEW!$A17,Operational_costs[Estimated cost year 4]) -> 0 | F17: =SUMIF(Operational_costs[Budget subcategory],OVERVIEW!$A17,Operational_costs[Estimated cost year 5]) -> 0 | G17: =ROUND(SUM(B17:F17),2) -> 0
A18: B.3. ICT (operations and services) | B18: =SUMIF(Operational_costs[Budget subcategory],OVERVIEW!$A18,Operational_costs[Estimated cost year 1]) -> 0 | C18: =SUMIF(Operational_costs[Budget subcategory],OVERVIEW!$A18,Operational_costs[Estimated cost year 2]) -> 0 | D18: =SUMIF(Operational_costs[Budget subcategory],OVERVIEW!$A18,Operational_costs[Estimated cost year 3]) -> 0 | E18: =SUMIF(Operational_costs[Budget subcategory],OVERVIEW!$A18,Operational_costs[Estimated cost year 4]) -> 0 | F18: =SUMIF(Operational_costs[Budget subcategory],OVERVIEW!$A18,Operational_costs[Estimated cost year 5]) -> 0 | G18: =ROUND(SUM(B18:F18),2) -> 0
A19: B.4. International mobility & subsistence | B19: =SUMIF(Operational_costs[Budget subcategory],OVERVIEW!$A19,Operational_costs[Estimated cost year 1]) -> 0 | C19: =SUMIF(Operational_costs[Budget subcategory],OVERVIEW!$A19,Operational_costs[Estimated cost year 2]) -> 0 | D19: =SUMIF(Operational_costs[Budget subcategory],OVERVIEW!$A19,Operational_costs[Estimated cost year 3]) -> 0 | E19: =SUMIF(Operational_costs[Budget subcategory],OVERVIEW!$A19,Operational_costs[Estimated cost year 4]) -> 0 | F19: =SUMIF(Operational_costs[Budget subcategory],OVERVIEW!$A19,Operational_costs[Estimated cost year 5]) -> 0 | G19: =ROUND(SUM(B19:F19),2) -> 0
A20: B.5. Local mobility & subsistence | B20: =SUMIF(Operational_costs[Budget subcategory],OVERVIEW!$A20,Operational_costs[Estimated cost year 1]) -> 0 | C20: =SUMIF(Operational_costs[Budget subcategory],OVERVIEW!$A20,Operational_costs[Estimated cost year 2]) -> 0 | D20: =SUMIF(Operational_costs[Budget subcategory],OVERVIEW!$A20,Operational_costs[Estimated cost year 3]) -> 0 | E20: =SUMIF(Operational_costs[Budget subcategory],OVERVIEW!$A20,Operational_costs[Estimated cost year 4]) -> 0 | F20: =SUMIF(Operational_costs[Budget subcategory],OVERVIEW!$A20,Operational_costs[Estimated cost year 5]) -> 0 | G20: =ROUND(SUM(B20:F20),2) -> 0
A21: C. Personnel costs | B21: =ROUND(SUM(B22:B23),2) -> 0 | C21: =ROUND(SUM(C22:C23),2) -> 0 | D21: =ROUND(SUM(D22:D23),2) -> 0 | E21: =ROUND(SUM(E22:E23),2) -> 0 | F21: =ROUND(SUM(F22:F23),2) -> 0 | G21: =ROUND(SUM(B21:F21),2) -> 0
A22: C.1. Employment contracts | B22: =SUMIF(Personnel_costs[Budget subcategory],OVERVIEW!$A22,Personnel_costs[Estimated cost year 1]) -> 0 | C22: =SUMIF(Personnel_costs[Budget subcategory],OVERVIEW!$A22,Personnel_costs[Estimated cost year 2]) -> 0 | D22: =SUMIF(Personnel_costs[Budget subcategory],OVERVIEW!$A22,Personnel_costs[Estimated cost year 3]) -> 0 | E22: =SUMIF(Personnel_costs[Budget subcategory],OVERVIEW!$A22,Personnel_costs[Estimated cost year 4]) -> 0 | F22: =SUMIF(Personnel_costs[Budget subcategory],OVERVIEW!$A22,Personnel_costs[Estimated cost year 5]) -> 0 | G22: =ROUND(SUM(B22:F22),2) -> 0
A23: C.2. Topping-up | B23: =SUMIF(Personnel_costs[Budget subcategory],OVERVIEW!$A23,Personnel_costs[Estimated cost year 1]) -> 0 | C23: =SUMIF(Personnel_costs[Budget subcategory],OVERVIEW!$A23,Personnel_costs[Estimated cost year 2]) -> 0 | D23: =SUMIF(Personnel_costs[Budget subcategory],OVERVIEW!$A23,Personnel_costs[Estimated cost year 3]) -> 0 | E23: =SUMIF(Personnel_costs[Budget subcategory],OVERVIEW!$A23,Personnel_costs[Estimated cost year 4]) -> 0 | F23: =SUMIF(Personnel_costs[Budget subcategory],OVERVIEW!$A23,Personnel_costs[Estimated cost year 5]) -> 0 | G23: =ROUND(SUM(B23:F23),2) -> 0
A24: D. Scholarship costs | B24: =ROUND(SUM(B25:B30),2) -> 0 | C24: =ROUND(SUM(C25:C30),2) -> 0 | D24: =ROUND(SUM(D25:D30),2) -> 0 | E24: =ROUND(SUM(E25:E30),2) -> 0 | F24: =ROUND(SUM(F25:F30),2) -> 0 | G24: =ROUND(SUM(B24:F24),2) -> 0
A25: D.1. Short term scholarship allowances in Belgium | B25: =SUMIF(Scholarship_costs[Budget subcategory],OVERVIEW!$A25,Scholarship_costs[Estimated cost year 1]) -> 0 | C25: =SUMIF(Scholarship_costs[Budget subcategory],OVERVIEW!$A25,Scholarship_costs[Estimated cost year 2]) -> 0 | D25: =SUMIF(Scholarship_costs[Budget subcategory],OVERVIEW!$A25,Scholarship_costs[Estimated cost year 3]) -> 0 | E25: =SUMIF(Scholarship_costs[Budget subcategory],OVERVIEW!$A25,Scholarship_costs[Estimated cost year 4]) -> 0 | F25: =SUMIF(Scholarship_costs[Budget subcategory],OVERVIEW!$A25,Scholarship_costs[Estimated cost year 5]) -> 0 | G25: =ROUND(SUM(B25:F25),2) -> 0
A26: D.2. Study scholarship allowances in Belgium | B26: =SUMIF(Scholarship_costs[Budget subcategory],OVERVIEW!$A26,Scholarship_costs[Estimated cost year 1]) -> 0 | C26: =SUMIF(Scholarship_costs[Budget subcategory],OVERVIEW!$A26,Scholarship_costs[Estimated cost year 2]) -> 0 | D26: =SUMIF(Scholarship_costs[Budget subcategory],OVERVIEW!$A26,Scholarship_costs[Estimated cost year 3]) -> 0 | E26: =SUMIF(Scholarship_costs[Budget subcategory],OVERVIEW!$A26,Scholarship_costs[Estimated cost year 4]) -> 0 | F26: =SUMIF(Scholarship_costs[Budget subcategory],OVERVIEW!$A26,Scholarship_costs[Estimated cost year 5]) -> 0 | G26: =ROUND(SUM(B26:F26),2) -> 0
A27: D.3. Research scholarship allowances in Belgium | B27: =SUMIF(Scholarship_costs[Budget subcategory],OVERVIEW!$A27,Scholarship_costs[Estimated cost year 1]) -> 0 | C27: =SUMIF(Scholarship_costs[Budget subcategory],OVERVIEW!$A27,Scholarship_costs[Estimated cost year 2]) -> 0 | D27: =SUMIF(Scholarship_costs[Budget subcategory],OVERVIEW!$A27,Scholarship_costs[Estimated cost year 3]) -> 0 | E27: =SUMIF(Scholarship_costs[Budget subcategory],OVERVIEW!$A27,Scholarship_costs[Estimated cost year 4]) -> 0 | F27: =SUMIF(Scholarship_costs[Budget subcategory],OVERVIEW!$A27,Scholarship_costs[Estimated cost year 5]) -> 0 | G27: =ROUND(SUM(B27:F27),2) -> 0
A28: D.4. Short term scholarship allowances in partner country | B28: =SUMIF(Scholarship_costs[Budget subcategory],OVERVIEW!$A28,Scholarship_costs[Estimated cost year 1]) -> 0 | C28: =SUMIF(Scholarship_costs[Budget subcategory],OVERVIEW!$A28,Scholarship_costs[Estimated cost year 2]) -> 0 | D28: =SUMIF(Scholarship_costs[Budget subcategory],OVERVIEW!$A28,Scholarship_costs[Estimated cost year 3]) -> 0 | E28: =SUMIF(Scholarship_costs[Budget subcategory],OVERVIEW!$A28,Scholarship_costs[Estimated cost year 4]) -> 0 | F28: =SUMIF(Scholarship_costs[Budget subcategory],OVERVIEW!$A28,Scholarship_costs[Estimated cost year 5]) -> 0 | G28: =ROUND(SUM(B28:F28),2) -> 0
A29: D.5. Study scholarship allowances in partner country | B29: =SUMIF(Scholarship_costs[Budget subcategory],OVERVIEW!$A29,Scholarship_costs[Estimated cost year 1]) -> 0 | C29: =SUMIF(Scholarship_costs[Budget subcategory],OVERVIEW!$A29,Scholarship_costs[Estimated cost year 2]) -> 0 | D29: =SUMIF(Scholarship_costs[Budget subcategory],OVERVIEW!$A29,Scholarship_costs[Estimated cost year 3]) -> 0 | E29: =SUMIF(Scholarship_costs[Budget subcategory],OVERVIEW!$A29,Scholarship_costs[Estimated cost year 4]) -> 0 | F29: =SUMIF(Scholarship_costs[Budget subcategory],OVERVIEW!$A29,Scholarship_costs[Estimated cost year 5]) -> 0 | G29: =ROUND(SUM(B29:F29),2) -> 0
A30: D.6. Research scholarship allowances in partner country | B30: =SUMIF(Scholarship_costs[Budget subcategory],OVERVIEW!$A30,Scholarship_costs[Estimated cost year 1]) -> 0 | C30: =SUMIF(Scholarship_costs[Budget subcategory],OVERVIEW!$A30,Scholarship_costs[Estimated cost year 2]) -> 0 | D30: =SUMIF(Scholarship_costs[Budget subcategory],OVERVIEW!$A30,Scholarship_costs[Estimated cost year 3]) -> 0 | E30: =SUMIF(Scholarship_costs[Budget subcategory],OVERVIEW!$A30,Scholarship_costs[Estimated cost year 4]) -> 0 | F30: =SUMIF(Scholarship_costs[Budget subcategory],OVERVIEW!$A30,Scholarship_costs[Estimated cost year 5]) -> 0 | G30: =ROUND(SUM(B30:F30),2) -> 0
A31: Total A-D | B31: =ROUND(B11+B15+B21+B24,2) -> 0 | C31: =ROUND(C11+C15+C21+C24,2) -> 0 | D31: =ROUND(D11+D15+D21+D24,2) -> 0 | E31: =ROUND(E11+E15+E21+E24,2) -> 0 | F31: =ROUND(F11+F15+F21+F24,2) -> 0 | G31: =ROUND(SUM(B31:F31),2) -> 0
A32: E. Coordination Costs | B32: =ROUND(B33+B34,2) -> 0 | C32: =ROUND(C33+C34,2) -> 0 | D32: =ROUND(D33+D34,2) -> 0 | E32: =ROUND(E33+E34,2) -> 0 | F32: =ROUND(F33+F34,2) -> 0 | G32: =ROUND(SUM(B32:F32),2) -> 0
A33: E.1. Coordination costs in Belgium | B33: =IF($B$7="",0,(IF($B$7="PSU",31818,0))) -> 0 | C33: =IF($B$7="",0,(IF($B$7="PSU",25000,0))) -> 0 | D33: =IF($B$7="",0,(IF($B$7="PSU",25000,0))) -> 0 | E33: =IF($B$7="",0,(IF($B$7="PSU",25000,0))) -> 0 | F33: =IF($B$7="",0,(IF($B$7="PSU",25000,0))) -> 0 | G33: =ROUND(SUM(B33:F33),2) -> 0
A34: E.2. Partner coordination costs | B34: =IF($B$7="",0,(IF($B$7="PSU",31818,0))) -> 0 | C34: =IF($B$7="",0,(IF($B$7="PSU",25000,0))) -> 0 | D34: =IF($B$7="",0,(IF($B$7="PSU",25000,0))) -> 0 | E34: =IF($B$7="",0,(IF($B$7="PSU",25000,0))) -> 0 | F34: =IF($B$7="",0,(IF($B$7="PSU",25000,0))) -> 0 | G34: =ROUND(SUM(B34:F34),2) -> 0
A35: TOTAL | B35: =ROUND(B31+B32,2) -> 0 | C35: =ROUND(C31+C32,2) -> 0 | D35: =ROUND(D31+D32,2) -> 0 | E35: =ROUND(E31+E32,2) -> 0 | F35: =ROUND(F31+F32,2) -> 0 | G35: =ROUND(SUM(B35:F35),2) -> 0

Sheet A. Investment costs
A1: A. INVESTMENT COSTS | D1: Budget lines | E1: AY 1 | F1: AY 2 | G1: AY 3 | H1: AY 4 | I1: AY 5 | J1: TOTAL
A2: Please provide the budget for investments in your project. Further explanations are provided below when you click the header of each column (e.g. "Description"). | E2: (€) | F2: (€) | G2: (€) | H2: (€) | I2: (€) | J2: (€)
D3: A. Investment costs (indic. max. of 25%) | E3: =ROUND(SUM(E4:E6),2) -> 0 | F3: =ROUND(SUM(F4:F6),2) -> 0 | G3: =ROUND(SUM(G4:G6),2) -> 0 | H3: =ROUND(SUM(H4:H6),2) -> 0 | I3: =ROUND(SUM(I4:I6),2) -> 0 | J3: =ROUND(SUM(E3:I3),2) -> 0
D4: A.1. General investment costs | E4: =SUMIF(Investment_costs[Budget subcategory],$D4,Investment_costs[Estimated cost year 1]) -> 0 | F4: =SUMIF(Investment_costs[Budget subcategory],$D4,Investment_costs[Estimated cost year 2]) -> 0 | G4: =SUMIF(Investment_costs[Budget subcategory],$D4,Investment_costs[Estimated cost year 3]) -> 0 | H4: =SUMIF(Investment_costs[Budget subcategory],$D4,Investment_costs[Estimated cost year 4]) -> 0 | I4: =SUMIF(Investment_costs[Budget subcategory],$D4,Investment_costs[Estimated cost year 5]) -> 0 | J4: =ROUND(SUM(E4:I4),2) -> 0
D5: A.2. Vehicles | E5: =SUMIF(Investment_costs[Budget subcategory],$D5,Investment_costs[Estimated cost year 1]) -> 0 | F5: =SUMIF(Investment_costs[Budget subcategory],$D5,Investment_costs[Estimated cost year 2]) -> 0 | G5: =SUMIF(Investment_costs[Budget subcategory],$D5,Investment_costs[Estimated cost year 3]) -> 0 | H5: =SUMIF(Investment_costs[Budget subcategory],$D5,Investment_costs[Estimated cost year 4]) -> 0 | I5: =SUMIF(Investment_costs[Budget subcategory],$D5,Investment_costs[Estimated cost year 5]) -> 0 | J5: =ROUND(SUM(E5:I5),2) -> 0
D6: A.3. ICT | E6: =SUMIF(Investment_costs[Budget subcategory],$D6,Investment_costs[Estimated cost year 1]) -> 0 | F6: =SUMIF(Investment_costs[Budget subcategory],$D6,Investment_costs[Estimated cost year 2]) -> 0 | G6: =SUMIF(Investment_costs[Budget subcategory],$D6,Investment_costs[Estimated cost year 3]) -> 0 | H6: =SUMIF(Investment_costs[Budget subcategory],$D6,Investment_costs[Estimated cost year 4]) -> 0 | I6: =SUMIF(Investment_costs[Budget subcategory],$D6,Investment_costs[Estimated cost year 5]) -> 0 | J6: =ROUND(SUM(E6:I6),2) -> 0
A8: Budget category | B8: Description | C8: Budget subcategory | D8: Number | E8: Estimated cost year 1 | F8: Estimated cost year 2 | G8: Estimated cost year 3 | H8: Estimated cost year 4 | I8: Estimated cost year 5 | J8: Comments
A9: =IF(Investment_costs[[#This Row],[Budget subcategory]]="","","A. Investment costs")
A10: =IF(Investment_costs[[#This Row],[Budget subcategory]]="","","A. Investment costs")
A11: =IF(Investment_costs[[#This Row],[Budget subcategory]]="","","A. Investment costs")
A12: =IF(Investment_costs[[#This Row],[Budget subcategory]]="","","A. Investment costs")
A13: =IF(Investment_costs[[#This Row],[Budget subcategory]]="","","A. Investment costs")
A14: =IF(Investment_costs[[#This Row],[Budget subcategory]]="","","A. Investment costs")
A15: =IF(Investment_costs[[#This Row],[Budget subcategory]]="","","A. Investment costs")
A16: =IF(Investment_costs[[#This Row],[Budget subcategory]]="","","A. Investment costs")
A17: =IF(Investment_costs[[#This Row],[Budget subcategory]]="","","A. Investment costs")
A18: =IF(Investment_costs[[#This Row],[Budget subcategory]]="","","A. Investment costs")
A19: =IF(Investment_costs[[#This Row],[Budget subcategory]]="","","A. Investment costs")
A20: =IF(Investment_costs[[#This Row],[Budget subcategory]]="","","A. Investment costs")
... A38: =IF(Investment_costs[[#This Row],[Budget subcategory]]="","","A. Investment costs")

Sheet B. Operational costs
A1: B. OPERATIONAL COSTS | D1: Budget lines | E1: AY 1 | F1: AY 2 | G1: AY 3 | H1: AY 4 | I1: AY 5 | J1: TOTAL
A2: Please provide the budget for operational costs in your project. Further explanations are provided below when you click the header of each column (e.g. "Description"). | E2: (€) | F2: (€) | G2: (€) | H2: (€) | I2: (€) | J2: (€)
D3: B. Operational costs | E3: =ROUND(SUM(E4:E8),2) -> 0 | F3: =ROUND(SUM(F4:F8),2) -> 0 | G3: =ROUND(SUM(G4:G8),2) -> 0 | H3: =ROUND(SUM(H4:H8),2) -> 0 | I3: =ROUND(SUM(I4:I8),2) -> 0 | J3: =ROUND(SUM(E3:I3),2) -> 0
D4: B.1. General: goods & services | E4: =SUMIF(Operational_costs[Budget subcategory],$D4,Operational_costs[Estimated cost year 1]) -> 0 | F4: =SUMIF(Operational_costs[Budget subcategory],$D4,Operational_costs[Estimated cost year 2]) -> 0 | G4: =SUMIF(Operational_costs[Budget subcategory],$D4,Operational_costs[Estimated cost year 3]) -> 0 | H4: =SUMIF(Operational_costs[Budget subcategory],$D4,Operational_costs[Estimated cost year 4]) -> 0 | I4: =SUMIF(Operational_costs[Budget subcategory],$D4,Operational_costs[Estimated cost year 5]) -> 0 | J4: =ROUND(SUM(E4:I4),2) -> 0
D5: B.2. Dissemination & uptake (events) | E5: =SUMIF(Operational_costs[Budget subcategory],$D5,Operational_costs[Estimated cost year 1]) -> 0 | F5: =SUMIF(Operational_costs[Budget subcategory],$D5,Operational_costs[Estimated cost year 2]) -> 0 | G5: =SUMIF(Operational_costs[Budget subcategory],$D5,Operational_costs[Estimated cost year 3]) -> 0 | H5: =SUMIF(Operational_costs[Budget subcategory],$D5,Operational_costs[Estimated cost year 4]) -> 0 | I5: =SUMIF(Operational_costs[Budget subcategory],$D5,Operational_costs[Estimated cost year 5]) -> 0 | J5: =ROUND(SUM(E5:I5),2) -> 0
D6: B.3. ICT (operations and services) | E6: =SUMIF(Operational_costs[Budget subcategory],$D6,Operational_costs[Estimated cost year 1]) -> 0 | F6: =SUMIF(Operational_costs[Budget subcategory],$D6,Operational_costs[Estimated cost year 2]) -> 0 | G6: =SUMIF(Operational_costs[Budget subcategory],$D6,Operational_costs[Estimated cost year 3]) -> 0 | H6: =SUMIF(Operational_costs[Budget subcategory],$D6,Operational_costs[Estimated cost year 4]) -> 0 | I6: =SUMIF(Operational_costs[Budget subcategory],$D6,Operational_costs[Estimated cost year 5]) -> 0 | J6: =ROUND(SUM(E6:I6),2) -> 0
D7: B.4. International mobility & subsistence | E7: =SUMIF(Operational_costs[Budget subcategory],$D7,Operational_costs[Estimated cost year 1]) -> 0 | F7: =SUMIF(Operational_costs[Budget subcategory],$D7,Operational_costs[Estimated cost year 2]) -> 0 | G7: =SUMIF(Operational_costs[Budget subcategory],$D7,Operational_costs[Estimated cost year 3]) -> 0 | H7: =SUMIF(Operational_costs[Budget subcategory],$D7,Operational_costs[Estimated cost year 4]) -> 0 | I7: =SUMIF(Operational_costs[Budget subcategory],$D7,Operational_costs[Estimated cost year 5]) -> 0 | J7: =ROUND(SUM(E7:I7),2) -> 0
D8: B.5. Local mobility & subsistence | E8: =SUMIF(Operational_costs[Budget subcategory],$D8,Operational_costs[Estimated cost year 1]) -> 0 | F8: =SUMIF(Operational_costs[Budget subcategory],$D8,Operational_costs[Estimated cost year 2]) -> 0 | G8: =SUMIF(Operational_costs[Budget subcategory],$D8,Operational_costs[Estimated cost year 3]) -> 0 | H8: =SUMIF(Operational_costs[Budget subcategory],$D8,Operational_costs[Estimated cost year 4]) -> 0 | I8: =SUMIF(Operational_costs[Budget subcategory],$D8,Operational_costs[Estimated cost year 5]) -> 0 | J8: =ROUND(SUM(E8:I8),2) -> 0
A10: Budget category | B10: Description | C10: Budget subcategory | D10: Number | E10: Estimated cost year 1 | F10: Estimated cost year 2 | G10: Estimated cost year 3 | H10: Estimated cost year 4 | I10: Estimated cost year 5 | J10: Comments
A11: =IF(Operational_costs[[#This Row],[Budget subcategory]]="","","B. Operational costs")
A12: =IF(Operational_costs[[#This Row],[Budget subcategory]]="","","B. Operational costs")
A13: =IF(Operational_costs[[#This Row],[Budget subcategory]]="","","B. Operational costs")
A14: =IF(Operational_costs[[#This Row],[Budget subcategory]]="","","B. Operational costs")
A15: =IF(Operational_costs[[#This Row],[Budget subcategory]]="","","B. Operational costs")
A16: =IF(Operational_costs[[#This Row],[Budget subcategory]]="","","B. Operational costs")
A17: =IF(Operational_costs[[#This Row],[Budget subcategory]]="","","B. Operational costs")
A18: =IF(Operational_costs[[#This Row],[Budget subcategory]]="","","B. Operational costs")
A19: =IF(Operational_costs[[#This Row],[Budget subcategory]]="","","B. Operational costs")
A20: =IF(Operational_costs[[#This Row],[Budget subcategory]]="","","B. Operational costs")
A21: =IF(Operational_costs[[#This Row],[Budget subcategory]]="","","B. Operational costs")
A22: =IF(Operational_costs[[#This Row],[Budget subcategory]]="","","B. Operational costs")
... A45: =IF(Operational_costs[[#This Row],[Budget subcategory]]="","","B. Operational costs")

Sheet C. Personnel costs
A1: C. PERSONNEL COSTS | D1: Budget lines | E1: AY 1 | F1: AY 2 | G1: AY 3 | H1: AY 4 | I1: AY 5 | J1: TOTAL
A2: Please provide the budget for personnel costs in your project. Further explanations are provided below when you click the header of each column (e.g. "Description"). Please also provide (if possible) detailed information in columns J to M. | E2: (€) | F2: (€) | G2: (€) | H2: (€) | I2: (€) | J2: (€)
D3: C. Personnel costs | E3: =ROUND(SUM(E4:E5),2) -> 0 | F3: =ROUND(SUM(F4:F5),2) -> 0 | G3: =ROUND(SUM(G4:G5),2) -> 0 | H3: =ROUND(SUM(H4:H5),2) -> 0 | I3: =ROUND(SUM(I4:I5),2) -> 0 | J3: =ROUND(SUM(E3:I3),2) -> 0
D4: C.1. Employment contracts | E4: =SUMIF(Personnel_costs[Budget subcategory],$D4,Personnel_costs[Estimated cost year 1]) -> 0 | F4: =SUMIF(Personnel_costs[Budget subcategory],$D4,Personnel_costs[Estimated cost year 2]) -> 0 | G4: =SUMIF(Personnel_costs[Budget subcategory],$D4,Personnel_costs[Estimated cost year 3]) -> 0 | H4: =SUMIF(Personnel_costs[Budget subcategory],$D4,Personnel_costs[Estimated cost year 4]) -> 0 | I4: =SUMIF(Personnel_costs[Budget subcategory],$D4,Personnel_costs[Estimated cost year 5]) -> 0 | J4: =ROUND(SUM(E4:I4),2) -> 0
D5: C.2. Topping-up | E5: =SUMIF(Personnel_costs[Budget subcategory],$D5,Personnel_costs[Estimated cost year 1]) -> 0 | F5: =SUMIF(Personnel_costs[Budget subcategory],$D5,Personnel_costs[Estimated cost year 2]) -> 0 | G5: =SUMIF(Personnel_costs[Budget subcategory],$D5,Personnel_costs[Estimated cost year 3]) -> 0 | H5: =SUMIF(Personnel_costs[Budget subcategory],$D5,Personnel_costs[Estimated cost year 4]) -> 0 | I5: =SUMIF(Personnel_costs[Budget subcategory],$D5,Personnel_costs[Estimated cost year 5]) -> 0 | J5: =ROUND(SUM(E5:I5),2) -> 0
A7: Budget category | B7: Description | C7: Budget subcategory | D7: Number | E7: Estimated cost year 1 | F7: Estimated cost year 2 | G7: Estimated cost year 3 | H7: Estimated cost year 4 | I7: Estimated cost year 5 | J7: Name | K7: Function | L7: Institution | M7: Job description
A8: =IF(Personnel_costs[[#This Row],[Budget subcategory]]="","","C. Personnel costs")
A9: =IF(Personnel_costs[[#This Row],[Budget subcategory]]="","","C. Personnel costs")
A10: =IF(Personnel_costs[[#This Row],[Budget subcategory]]="","","C. Personnel costs")
A11: =IF(Personnel_costs[[#This Row],[Budget subcategory]]="","","C. Personnel costs")
A12: =IF(Personnel_costs[[#This Row],[Budget subcategory]]="","","C. Personnel costs")
A13: =IF(Personnel_costs[[#This Row],[Budget subcategory]]="","","C. Personnel costs")
A14: =IF(Personnel_costs[[#This Row],[Budget subcategory]]="","","C. Personnel costs")
A15: =IF(Personnel_costs[[#This Row],[Budget subcategory]]="","","C. Personnel costs")
A16: =IF(Personnel_costs[[#This Row],[Budget subcategory]]="","","C. Personnel costs")
A17: =IF(Personnel_costs[[#This Row],[Budget subcategory]]="","","C. Personnel costs")
A18: =IF(Personnel_costs[[#This Row],[Budget subcategory]]="","","C. Personnel costs")
A19: =IF(Personnel_costs[[#This Row],[Budget subcategory]]="","","C. Personnel costs")
... A37: =IF(Personnel_costs[[#This Row],[Budget subcategory]]="","","C. Personnel costs")

Sheet D. Scholarship costs
A1: D. SCHOLARSHIP COSTS | G1: Budget lines | H1: AY 1 | I1: AY 2 | J1: AY 3 | K1: AY 4 | L1: AY 5 | M1: TOTAL
A2: Please provide the budget for scholarship costs in your project. Further explanations are provided below when you click the header of each column (e.g. "Description"). Please note that the estimated costs per year will not be calculated until you fill in the number of scholars! Please fill in the columns from left to right.Some columns will be filled in automatically, based on what you fill in in other columns. Please only fill in (or overwrite) cells coloured yellow. In some cases, you may overwrite the suggested amounts (e.g. for Insurance, Bench fee, etc.). Please note that cells will sometimes colour red. This means the cost exceeds the allowed maximum (e.g. the daily allowance for a local short term scholarship cannot exceed 48.39 EUR per day). | H2: (€) | I2: (€) | J2: (€) | K2: (€) | L2: (€) | M2: (€)
G3: D. Scholarship costs | H3: =ROUND(SUM(H4:H9),2) -> 0 | I3: =ROUND(SUM(I4:I9),2) -> 0 | J3: =ROUND(SUM(J4:J9),2) -> 0 | K3: =ROUND(SUM(K4:K9),2) -> 0 | L3: =ROUND(SUM(L4:L9),2) -> 0 | M3: =ROUND(SUM(H3:L3),2) -> 0
G4: D.1. Short term scholarship allowances in Belgium | H4: =SUMIF(Scholarship_costs[Budget subcategory],$G4,Scholarship_costs[Estimated cost year 1]) -> 0 | I4: =SUMIF(Scholarship_costs[Budget subcategory],$G4,Scholarship_costs[Estimated cost year 2]) -> 0 | J4: =SUMIF(Scholarship_costs[Budget subcategory],$G4,Scholarship_costs[Estimated cost year 3]) -> 0 | K4: =SUMIF(Scholarship_costs[Budget subcategory],$G4,Scholarship_costs[Estimated cost year 4]) -> 0 | L4: =SUMIF(Scholarship_costs[Budget subcategory],$G4,Scholarship_costs[Estimated cost year 5]) -> 0 | M4: =ROUND(SUM(H4:L4),2) -> 0
G5: D.2. Study scholarship allowances in Belgium | H5: =SUMIF(Scholarship_costs[Budget subcategory],$G5,Scholarship_costs[Estimated cost year 1]) -> 0 | I5: =SUMIF(Scholarship_costs[Budget subcategory],$G5,Scholarship_costs[Estimated cost year 2]) -> 0 | J5: =SUMIF(Scholarship_costs[Budget subcategory],$G5,Scholarship_costs[Estimated cost year 3]) -> 0 | K5: =SUMIF(Scholarship_costs[Budget subcategory],$G5,Scholarship_costs[Estimated cost year 4]) -> 0 | L5: =SUMIF(Scholarship_costs[Budget subcategory],$G5,Scholarship_costs[Estimated cost year 5]) -> 0 | M5: =ROUND(SUM(H5:L5),2) -> 0
G6: D.3. Research scholarship allowances in Belgium | H6: =SUMIF(Scholarship_costs[Budget subcategory],$G6,Scholarship_costs[Estimated cost year 1]) -> 0 | I6: =SUMIF(Scholarship_costs[Budget subcategory],$G6,Scholarship_costs[Estimated cost year 2]) -> 0 | J6: =SUMIF(Scholarship_costs[Budget subcategory],$G6,Scholarship_costs[Estimated cost year 3]) -> 0 | K6: =SUMIF(Scholarship_costs[Budget subcategory],$G6,Scholarship_costs[Estimated cost year 4]) -> 0 | L6: =SUMIF(Scholarship_costs[Budget subcategory],$G6,Scholarship_costs[Estimated cost year 5]) -> 0 | M6: =ROUND(SUM(H6:L6),2) -> 0
G7: D.4. Short term scholarship allowances in partner country | H7: =SUMIF(Scholarship_costs[Budget subcategory],$G7,Scholarship_costs[Estimated cost year 1]) -> 0 | I7: =SUMIF(Scholarship_costs[Budget subcategory],$G7,Scholarship_costs[Estimated cost year 2]) -> 0 | J7: =SUMIF(Scholarship_costs[Budget subcategory],$G7,Scholarship_costs[Estimated cost year 3]) -> 0 | K7: =SUMIF(Scholarship_costs[Budget subcategory],$G7,Scholarship_costs[Estimated cost year 4]) -> 0 | L7: =SUMIF(Scholarship_costs[Budget subcategory],$G7,Scholarship_costs[Estimated cost year 5]) -> 0 | M7: =ROUND(SUM(H7:L7),2) -> 0
G8: D.5. Study scholarship allowances in partner country | H8: =SUMIF(Scholarship_costs[Budget subcategory],$G8,Scholarship_costs[Estimated cost year 1]) -> 0 | I8: =SUMIF(Scholarship_costs[Budget subcategory],$G8,Scholarship_costs[Estimated cost year 2]) -> 0 | J8: =SUMIF(Scholarship_costs[Budget subcategory],$G8,Scholarship_costs[Estimated cost year 3]) -> 0 | K8: =SUMIF(Scholarship_costs[Budget subcategory],$G8,Scholarship_costs[Estimated cost year 4]) -> 0 | L8: =SUMIF(Scholarship_costs[Budget subcategory],$G8,Scholarship_costs[Estimated cost year 5]) -> 0 | M8: =ROUND(SUM(H8:L8),2) -> 0
G9: D.6. Research scholarship allowances in partner country | H9: =SUMIF(Scholarship_costs[Budget subcategory],$G9,Scholarship_costs[Estimated cost year 1]) -> 0 | I9: =SUMIF(Scholarship_costs[Budget subcategory],$G9,Scholarship_costs[Estimated cost year 2]) -> 0 | J9: =SUMIF(Scholarship_costs[Budget subcategory],$G9,Scholarship_costs[Estimated cost year 3]) -> 0 | K9: =SUMIF(Scholarship_costs[Budget subcategory],$G9,Scholarship_costs[Estimated cost year 4]) -> 0 | L9: =SUMIF(Scholarship_costs[Budget subcategory],$G9,Scholarship_costs[Estimated cost year 5]) -> 0 | M9: =ROUND(SUM(H9:L9),2) -> 0
A11: Budget category | B11: Budget subcategory | C11: Description | D11: Activity year | E11: Location | F11: Type | G11: Allowance type | H11: Number of scholars | I11: Number of months | J11: Number of days | K11: Monthly allowance | L11: Daily allowance | M11: Allowance (total) | N11: Tuition fee | O11: Indirect travel costs | P11: Insurance | Q11: Bench fee | R11: Airline ticket(s) | S11: Extra costs (if justified) | T11: Supervision and research fee | U11: Estimated cost per scholar | V11: Estimated cost year 1 | W11: Estimated cost year 2 | X11: Estimated cost year 3 | Y11: Estimated cost year 4 | Z11: Estimated cost year 5
A12: =IF(Scholarship_costs[[#This Row],[Budget subcategory]]="","","D. Scholarship costs") | B12: =IF(Scholarship_costs[[#This Row],[Location]]="","",(IF(AND(Scholarship_costs[[#This Row],[Location]]="Belgium",Scholarship_costs[[#This Row],[Type]]="Short term (Belgium)"),"D.1. Short term scholarship allowances in Belgium", (IF(AND(Scholarship_costs[[#This Row],[Location]]="Belgium",Scholarship_costs[[#This Row],[Type]]="Study (Belgium)"),"D.2. Study scholarship allowances in Belgium", IF(AND(Scholarship_costs[[#This Row],[Location]]="Belgium",Scholarship_costs[[#This Row],[Type]]="Research (Belgium)"),"D.3. Research scholarship allowances in Belgium", IF(AND(Scholarship_costs[[#This Row],[Location]]="local",Scholarship_costs[[#This Row],[Type]]="Short term (local)"),"D.4. Short term scholarship allowances in partner country", IF(AND(Scholarship_costs[[#This Row],[Location]]="local",Scholarship_costs[[#This Row],[Type]]="Study (local)"),"D.5. Study scholarship allowances in partner country", IF(AND(Scholarship_costs[[#This Row],[Location]]="local",Scholarship_costs[[#This Row],[Type]]="Research (local)"),"D.6. Research scholarship allowances in partner country",""))))))))) | I12: =IF(Scholarship_costs[[#This Row],[Type]]="","", (IF(Scholarship_costs[[#This Row],[Allowance type]]="15-31 days",1, (IF(Scholarship_costs[[#This Row],[Allowance type]]="7-14 days",0, (IF(Scholarship_costs[[#This Row],[Allowance type]]="S>31 days-6 months",0,0))))))) | J12: =IF(Scholarship_costs[[#This Row],[Type]]="","", (IF(Scholarship_costs[[#This Row],[Allowance type]]="15-31 days",0,0))) | K12: =IF(Scholarship_costs[[#This Row],[Type]]="","", (IF(Scholarship_costs[[#This Row],[Location]]="Local",0, (IF(Scholarship_costs[[#This Row],[Allowance type]]="7-14 days",0, (IF(Scholarship_costs[[#This Row],[Allowance type]]="15-31 days",1500, (IF(Scholarship_costs[[#This Row],[Allowance type]]=">31 days-6 months",(0), (IF(Scholarship_costs[[#This Row],[Type]]="Study (Belgium)",(1400), (IF(Scholarship_costs[[#This Row],[Type]]="Research (Belgium)",1900,0))))))))))))) | L12: =IF(Scholarship_costs[[#This Row],[Type]]="","", (IF(Scholarship_costs[[#This Row],[Location]]="Local",0, (IF(Scholarship_costs[[#This Row],[Allowance type]]="7-14 days",100, (IF(Scholarship_costs[[#This Row],[Allowance type]]="15-31 days",0, (IF(Scholarship_costs[[#This Row],[Allowance type]]=">31 days-6 months",(1500/31), (IF(Scholarship_costs[[#This Row],[Type]]="Study (Belgium)",(0), (IF(Scholarship_costs[[#This Row],[Type]]="Research (Belgium)",0,0))))))))))))) | M12: =IF(OR(Scholarship_costs[[#This Row],[Number of months]]="",Scholarship_costs[[#This Row],[Number of days]]="",Scholarship_costs[[#This Row],[Monthly allowance]]="",Scholarship_costs[[#This Row],[Daily allowance]]=""),"", (IF(Scholarship_costs[[#This Row],[Allowance type]]=">31 days-6 months",(SUM(31*Scholarship_costs[[#This Row],[Number of months]]*Scholarship_costs[[#This Row],[Daily allowance]],(Scholarship_costs[[#This Row],[Number of days]]*Scholarship_costs[[#This Row],[Daily allowance]]))), (SUM((Scholarship_costs[[#This Row],[Number of months]]*Scholarship_costs[[#This Row],[Monthly allowance]]),(Scholarship_costs[[#This Row],[Number of days]]*Scholarship_costs[[#This Row],[Daily allowance]])))))) | O12: =IF(Scholarship_costs[[#This Row],[Type]]="","", (IF(Scholarship_costs[[#This Row],[Type]]="Short term (Belgium)",200,0))) | P12: =IF(Scholarship_costs[[#This Row],[Type]]="","", (IF(Scholarship_costs[[#This Row],[Type]]="Study (Belgium)",0, (IF(Scholarship_costs[[#This Row],[Type]]="Research (Belgium)",0, (IF(Scholarship_costs[[#This Row],[Type]]="Short term (local)",0, (IF(Scholarship_costs[[#This Row],[Type]]="Study (local)",0, (IF(Scholarship_costs[[#This Row],[Type]]="Research (local)",0, (IF(AND(Scholarship_costs[[#This Row],[Number of months]]="",Scholarship_costs[[#This Row],[Number of days]]=""),"", (IF(AND(Scholarship_costs[[#This Row],[Number of months]]="n/a",Scholarship_costs[[#This Row],[Number of days]]=""),"", (IF(Scholarship_costs[[#This Row],[Number of months]]="n/a",(Scholarship_costs[[#This Row],[Number of days]]*2), (IF(Scholarship_costs[[#This Row],[Number of days]]="n/a",(Scholarship_costs[[#This Row],[Number of months]]*2*31), (IF(Scholarship_costs[[#This Row],[Number of months]]="",(Scholarship_costs[[#This Row],[Number of days]]*2), (IF(Scholarship_costs[[#This Row],[Number of days]]="",(Scholarship_costs[[#This Row],[Number of months]]*2*31), (((Scholarship_costs[[#This Row],[Number of months]]*31)+Scholarship_costs[[#This Row],[Number of days]]))*2))))))))))))))))))))))) | Q12: =IF(Scholarship_costs[[#This Row],[Type]]="","", (IF(Scholarship_costs[[#This Row],[Type]]="Study (Belgium)",0, (IF(Scholarship_costs[[#This Row],[Type]]="Research (Belgium)",0, (IF(Scholarship_costs[[#This Row],[Type]]="Short term (local)",0, (IF(Scholarship_costs[[#This Row],[Type]]="Study (local)",0, (IF(Scholarship_costs[[#This Row],[Type]]="Research (local)",0, (IF(AND(Scholarship_costs[[#This Row],[Number of months]]="",Scholarship_costs[[#This Row],[Number of days]]=""),"", (IF(AND(Scholarship_costs[[#This Row],[Number of months]]="n/a",Scholarship_costs[[#This Row],[Number of days]]=""),"", (IF(Scholarship_costs[[#This Row],[Number of months]]="n/a",(Scholarship_costs[[#This Row],[Number of days]]*16), (IF(Scholarship_costs[[#This Row],[Number of days]]="n/a",(Scholarship_costs[[#This Row],[Number of months]]*16*31), (IF(Scholarship_costs[[#This Row],[Number of months]]="",(Scholarship_costs[[#This Row],[Number of days]]*16), (IF(Scholarship_costs[[#This Row],[Number of days]]="",(Scholarship_costs[[#This Row],[Number of months]]*16*31), (((Scholarship_costs[[#This Row],[Number of months]]*31)+Scholarship_costs[[#This Row],[Number of days]]))*16))))))))))))))))))))))) | T12: =IF(Scholarship_costs[[#This Row],[Type]]="","", (IF(Scholarship_costs[[#This Row],[Type]]="Research (Belgium)",((Scholarship_costs[[#This Row],[Number of months]]*31)+Scholarship_costs[[#This Row],[Number of days]])*(310/31),0))) | U12: =IF(Scholarship_costs[[#This Row],[Type]]="","",(IF(Scholarship_costs[[#This Row],[Number of scholars]]="","",(ROUND((SUM(Scholarship_costs[[#This Row],[Allowance (total)]:[Supervision and research fee]])),2))))) | V12: =IF(Scholarship_costs[[#This Row],[Activity year]]="","", (IF(Scholarship_costs[[#This Row],[Number of scholars]]="","", (IF(Scholarship_costs[[#This Row],[Activity year]]=1,(ROUND(Scholarship_costs[[#This Row],[Number of scholars]]*Scholarship_costs[[#This Row],[Estimated cost per scholar]],2)),0))))) | W12: =IF(Scholarship_costs[[#This Row],[Activity year]]="","", (IF(Scholarship_costs[[#This Row],[Number of scholars]]="","", (IF(Scholarship_costs[[#This Row],[Activity year]]=2,(ROUND(Scholarship_costs[[#This Row],[Number of scholars]]*Scholarship_costs[[#This Row],[Estimated cost per scholar]],2)),0))))) | X12: =IF(Scholarship_costs[[#This Row],[Activity year]]="","", (IF(Scholarship_costs[[#This Row],[Number of scholars]]="","", (IF(Scholarship_costs[[#This Row],[Activity year]]=3,(ROUND(Scholarship_costs[[#This Row],[Number of scholars]]*Scholarship_costs[[#This Row],[Estimated cost per scholar]],2)),0))))) | Y12: =IF(Scholarship_costs[[#This Row],[Activity year]]="","", (IF(Scholarship_costs[[#This Row],[Number of scholars]]="","", (IF(Scholarship_costs[[#This Row],[Activity year]]=4,(ROUND(Scholarship_costs[[#This Row],[Number of scholars]]*Scholarship_costs[[#This Row],[Estimated cost per scholar]],2)),0))))) | Z12: =IF(Scholarship_costs[[#This Row],[Activity year]]="","", (IF(Scholarship_costs[[#This Row],[Number of scholars]]="","", (IF(Scholarship_costs[[#This Row],[Activity year]]=5,(ROUND(Scholarship_costs[[#This Row],[Number of scholars]]*Scholarship_costs[[#This Row],[Estimated cost per scholar]],2)),0)))))
A13: =IF(Scholarship_costs[[#This Row],[Budget subcategory]]="","","D. Scholarship costs") | B13: =IF(Scholarship_costs[[#This Row],[Location]]="","",(IF(AND(Scholarship_costs[[#This Row],[Location]]="Belgium",Scholarship_costs[[#This Row],[Type]]="Short term (Belgium)"),"D.1. Short term scholarship allowances in Belgium", (IF(AND(Scholarship_costs[[#This Row],[Location]]="Belgium",Scholarship_costs[[#This Row],[Type]]="Study (Belgium)"),"D.2. Study scholarship allowances in Belgium", IF(AND(Scholarship_costs[[#This Row],[Location]]="Belgium",Scholarship_costs[[#This Row],[Type]]="Research (Belgium)"),"D.3. Research scholarship allowances in Belgium", IF(AND(Scholarship_costs[[#This Row],[Location]]="local",Scholarship_costs[[#This Row],[Type]]="Short term (local)"),"D.4. Short term scholarship allowances in partner country", IF(AND(Scholarship_costs[[#This Row],[Location]]="local",Scholarship_costs[[#This Row],[Type]]="Study (local)"),"D.5. Study scholarship allowances in partner country", IF(AND(Scholarship_costs[[#This Row],[Location]]="local",Scholarship_costs[[#This Row],[Type]]="Research (local)"),"D.6. Research scholarship allowances in partner country",""))))))))) | I13: =IF(Scholarship_costs[[#This Row],[Type]]="","", (IF(Scholarship_costs[[#This Row],[Allowance type]]="15-31 days",1, (IF(Scholarship_costs[[#This Row],[Allowance type]]="7-14 days",0, (IF(Scholarship_costs[[#This Row],[Allowance type]]="S>31 days-6 months",0,0))))))) | J13: =IF(Scholarship_costs[[#This Row],[Type]]="","", (IF(Scholarship_costs[[#This Row],[Allowance type]]="15-31 days",0,0))) | K13: =IF(Scholarship_costs[[#This Row],[Type]]="","", (IF(Scholarship_costs[[#This Row],[Location]]="Local",0, (IF(Scholarship_costs[[#This Row],[Allowance type]]="7-14 days",0, (IF(Scholarship_costs[[#This Row],[Allowance type]]="15-31 days",1500, (IF(Scholarship_costs[[#This Row],[Allowance type]]=">31 days-6 months",(0), (IF(Scholarship_costs[[#This Row],[Type]]="Study (Belgium)",(1400), (IF(Scholarship_costs[[#This Row],[Type]]="Research (Belgium)",1900,0))))))))))))) | L13: =IF(Scholarship_costs[[#This Row],[Type]]="","", (IF(Scholarship_costs[[#This Row],[Location]]="Local",0, (IF(Scholarship_costs[[#This Row],[Allowance type]]="7-14 days",100, (IF(Scholarship_costs[[#This Row],[Allowance type]]="15-31 days",0, (IF(Scholarship_costs[[#This Row],[Allowance type]]=">31 days-6 months",(1500/31), (IF(Scholarship_costs[[#This Row],[Type]]="Study (Belgium)",(0), (IF(Scholarship_costs[[#This Row],[Type]]="Research (Belgium)",0,0))))))))))))) | M13: =IF(OR(Scholarship_costs[[#This Row],[Number of months]]="",Scholarship_costs[[#This Row],[Number of days]]="",Scholarship_costs[[#This Row],[Monthly allowance]]="",Scholarship_costs[[#This Row],[Daily allowance]]=""),"", (IF(Scholarship_costs[[#This Row],[Allowance type]]=">31 days-6 months",(SUM(31*Scholarship_costs[[#This Row],[Number of months]]*Scholarship_costs[[#This Row],[Daily allowance]],(Scholarship_costs[[#This Row],[Number of days]]*Scholarship_costs[[#This Row],[Daily allowance]]))), (SUM((Scholarship_costs[[#This Row],[Number of months]]*Scholarship_costs[[#This Row],[Monthly allowance]]),(Scholarship_costs[[#This Row],[Number of days]]*Scholarship_costs[[#This Row],[Daily allowance]])))))) | O13: =IF(Scholarship_costs[[#This Row],[Type]]="","", (IF(Scholarship_costs[[#This Row],[Type]]="Short term (Belgium)",200,0))) | P13: =IF(Scholarship_costs[[#This Row],[Type]]="","", (IF(Scholarship_costs[[#This Row],[Type]]="Study (Belgium)",0, (IF(Scholarship_costs[[#This Row],[Type]]="Research (Belgium)",0, (IF(Scholarship_costs[[#This Row],[Type]]="Short term (local)",0, (IF(Scholarship_costs[[#This Row],[Type]]="Study (local)",0, (IF(Scholarship_costs[[#This Row],[Type]]="Research (local)",0, (IF(AND(Scholarship_costs[[#This Row],[Number of months]]="",Scholarship_costs[[#This Row],[Number of days]]=""),"", (IF(AND(Scholarship_costs[[#This Row],[Number of months]]="n/a",Scholarship_costs[[#This Row],[Number of days]]=""),"", (IF(Scholarship_costs[[#This Row],[Number of months]]="n/a",(Scholarship_costs[[#This Row],[Number of days]]*2), (IF(Scholarship_costs[[#This Row],[Number of days]]="n/a",(Scholarship_costs[[#This Row],[Number of months]]*2*31), (IF(Scholarship_costs[[#This Row],[Number of months]]="",(Scholarship_costs[[#This Row],[Number of days]]*2), (IF(Scholarship_costs[[#This Row],[Number of days]]="",(Scholarship_costs[[#This Row],[Number of months]]*2*31), (((Scholarship_costs[[#This Row],[Number of months]]*31)+Scholarship_costs[[#This Row],[Number of days]]))*2))))))))))))))))))))))) | Q13: =IF(Scholarship_costs[[#This Row],[Type]]="","", (IF(Scholarship_costs[[#This Row],[Type]]="Study (Belgium)",0, (IF(Scholarship_costs[[#This Row],[Type]]="Research (Belgium)",0, (IF(Scholarship_costs[[#This Row],[Type]]="Short term (local)",0, (IF(Scholarship_costs[[#This Row],[Type]]="Study (local)",0, (IF(Scholarship_costs[[#This Row],[Type]]="Research (local)",0, (IF(AND(Scholarship_costs[[#This Row],[Number of months]]="",Scholarship_costs[[#This Row],[Number of days]]=""),"", (IF(AND(Scholarship_costs[[#This Row],[Number of months]]="n/a",Scholarship_costs[[#This Row],[Number of days]]=""),"", (IF(Scholarship_costs[[#This Row],[Number of months]]="n/a",(Scholarship_costs[[#This Row],[Number of days]]*16), (IF(Scholarship_costs[[#This Row],[Number of days]]="n/a",(Scholarship_costs[[#This Row],[Number of months]]*16*31), (IF(Scholarship_costs[[#This Row],[Number of months]]="",(Scholarship_costs[[#This Row],[Number of days]]*16), (IF(Scholarship_costs[[#This Row],[Number of days]]="",(Scholarship_costs[[#This Row],[Number of months]]*16*31), (((Scholarship_costs[[#This Row],[Number of months]]*31)+Scholarship_costs[[#This Row],[Number of days]]))*16))))))))))))))))))))))) | T13: =IF(Scholarship_costs[[#This Row],[Type]]="","", (IF(Scholarship_costs[[#This Row],[Type]]="Research (Belgium)",((Scholarship_costs[[#This Row],[Number of months]]*31)+Scholarship_costs[[#This Row],[Number of days]])*(310/31),0))) | U13: =IF(Scholarship_costs[[#This Row],[Type]]="","",(IF(Scholarship_costs[[#This Row],[Number of scholars]]="","",(ROUND((SUM(Scholarship_costs[[#This Row],[Allowance (total)]:[Supervision and research fee]])),2))))) | V13: =IF(Scholarship_costs[[#This Row],[Activity year]]="","", (IF(Scholarship_costs[[#This Row],[Number of scholars]]="","", (IF(Scholarship_costs[[#This Row],[Activity year]]=1,(ROUND(Scholarship_costs[[#This Row],[Number of scholars]]*Scholarship_costs[[#This Row],[Estimated cost per scholar]],2)),0))))) | W13: =IF(Scholarship_costs[[#This Row],[Activity year]]="","", (IF(Scholarship_costs[[#This Row],[Number of scholars]]="","", (IF(Scholarship_costs[[#This Row],[Activity year]]=2,(ROUND(Scholarship_costs[[#This Row],[Number of scholars]]*Scholarship_costs[[#This Row],[Estimated cost per scholar]],2)),0))))) | X13: =IF(Scholarship_costs[[#This Row],[Activity year]]="","", (IF(Scholarship_costs[[#This Row],[Number of scholars]]="","", (IF(Scholarship_costs[[#This Row],[Activity year]]=3,(ROUND(Scholarship_costs[[#This Row],[Number of scholars]]*Scholarship_costs[[#This Row],[Estimated cost per scholar]],2)),0))))) | Y13: =IF(Scholarship_costs[[#This Row],[Activity year]]="","", (IF(Scholarship_costs[[#This Row],[Number of scholars]]="","", (IF(Scholarship_costs[[#This Row],[Activity year]]=4,(ROUND(Scholarship_costs[[#This Row],[Number of scholars]]*Scholarship_costs[[#This Row],[Estimated cost per scholar]],2)),0))))) | Z13: =IF(Scholarship_costs[[#This Row],[Activity year]]="","", (IF(Scholarship_costs[[#This Row],[Number of scholars]]="","", (IF(Scholarship_costs[[#This Row],[Activity year]]=5,(ROUND(Scholarship_costs[[#This Row],[Number of scholars]]*Scholarship_costs[[#This Row],[Estimated cost per scholar]],2)),0)))))
A14: =IF(Scholarship_costs[[#This Row],[Budget subcategory]]="","","D. Scholarship costs") | B14: =IF(Scholarship_costs[[#This Row],[Location]]="","",(IF(AND(Scholarship_costs[[#This Row],[Location]]="Belgium",Scholarship_costs[[#This Row],[Type]]="Short term (Belgium)"),"D.1. Short term scholarship allowances in Belgium", (IF(AND(Scholarship_costs[[#This Row],[Location]]="Belgium",Scholarship_costs[[#This Row],[Type]]="Study (Belgium)"),"D.2. Study scholarship allowances in Belgium", IF(AND(Scholarship_costs[[#This Row],[Location]]="Belgium",Scholarship_costs[[#This Row],[Type]]="Research (Belgium)"),"D.3. Research scholarship allowances in Belgium", IF(AND(Scholarship_costs[[#This Row],[Location]]="local",Scholarship_costs[[#This Row],[Type]]="Short term (local)"),"D.4. Short term scholarship allowances in partner country", IF(AND(Scholarship_costs[[#This Row],[Location]]="local",Scholarship_costs[[#This Row],[Type]]="Study (local)"),"D.5. Study scholarship allowances in partner country", IF(AND(Scholarship_costs[[#This Row],[Location]]="local",Scholarship_costs[[#This Row],[Type]]="Research (local)"),"D.6. Research scholarship allowances in partner country",""))))))))) | I14: =IF(Scholarship_costs[[#This Row],[Type]]="","", (IF(Scholarship_costs[[#This Row],[Allowance type]]="15-31 days",1, (IF(Scholarship_costs[[#This Row],[Allowance type]]="7-14 days",0, (IF(Scholarship_costs[[#This Row],[Allowance type]]="S>31 days-6 months",0,0))))))) | J14: =IF(Scholarship_costs[[#This Row],[Type]]="","", (IF(Scholarship_costs[[#This Row],[Allowance type]]="15-31 days",0,0))) | K14: =IF(Scholarship_costs[[#This Row],[Type]]="","", (IF(Scholarship_costs[[#This Row],[Location]]="Local",0, (IF(Scholarship_costs[[#This Row],[Allowance type]]="7-14 days",0, (IF(Scholarship_costs[[#This Row],[Allowance type]]="15-31 days",1500, (IF(Scholarship_costs[[#This Row],[Allowance type]]=">31 days-6 months",(0), (IF(Scholarship_costs[[#This Row],[Type]]="Study (Belgium)",(1400), (IF(Scholarship_costs[[#This Row],[Type]]="Research (Belgium)",1900,0))))))))))))) | L14: =IF(Scholarship_costs[[#This Row],[Type]]="","", (IF(Scholarship_costs[[#This Row],[Location]]="Local",0, (IF(Scholarship_costs[[#This Row],[Allowance type]]="7-14 days",100, (IF(Scholarship_costs[[#This Row],[Allowance type]]="15-31 days",0, (IF(Scholarship_costs[[#This Row],[Allowance type]]=">31 days-6 months",(1500/31), (IF(Scholarship_costs[[#This Row],[Type]]="Study (Belgium)",(0), (IF(Scholarship_costs[[#This Row],[Type]]="Research (Belgium)",0,0))))))))))))) | M14: =IF(OR(Scholarship_costs[[#This Row],[Number of months]]="",Scholarship_costs[[#This Row],[Number of days]]="",Scholarship_costs[[#This Row],[Monthly allowance]]="",Scholarship_costs[[#This Row],[Daily allowance]]=""),"", (IF(Scholarship_costs[[#This Row],[Allowance type]]=">31 days-6 months",(SUM(31*Scholarship_costs[[#This Row],[Number of months]]*Scholarship_costs[[#This Row],[Daily allowance]],(Scholarship_costs[[#This Row],[Number of days]]*Scholarship_costs[[#This Row],[Daily allowance]]))), (SUM((Scholarship_costs[[#This Row],[Number of months]]*Scholarship_costs[[#This Row],[Monthly allowance]]),(Scholarship_costs[[#This Row],[Number of days]]*Scholarship_costs[[#This Row],[Daily allowance]])))))) | O14: =IF(Scholarship_costs[[#This Row],[Type]]="","", (IF(Scholarship_costs[[#This Row],[Type]]="Short term (Belgium)",200,0))) | P14: =IF(Scholarship_costs[[#This Row],[Type]]="","", (IF(Scholarship_costs[[#This Row],[Type]]="Study (Belgium)",0, (IF(Scholarship_costs[[#This Row],[Type]]="Research (Belgium)",0, (IF(Scholarship_costs[[#This Row],[Type]]="Short term (local)",0, (IF(Scholarship_costs[[#This Row],[Type]]="Study (local)",0, (IF(Scholarship_costs[[#This Row],[Type]]="Research (local)",0, (IF(AND(Scholarship_costs[[#This Row],[Number of months]]="",Scholarship_costs[[#This Row],[Number of days]]=""),"", (IF(AND(Scholarship_costs[[#This Row],[Number of months]]="n/a",Scholarship_costs[[#This Row],[Number of days]]=""),"", (IF(Scholarship_costs[[#This Row],[Number of months]]="n/a",(Scholarship_costs[[#This Row],[Number of days]]*2), (IF(Scholarship_costs[[#This Row],[Number of days]]="n/a",(Scholarship_costs[[#This Row],[Number of months]]*2*31), (IF(Scholarship_costs[[#This Row],[Number of months]]="",(Scholarship_costs[[#This Row],[Number of days]]*2), (IF(Scholarship_costs[[#This Row],[Number of days]]="",(Scholarship_costs[[#This Row],[Number of months]]*2*31), (((Scholarship_costs[[#This Row],[Number of months]]*31)+Scholarship_costs[[#This Row],[Number of days]]))*2))))))))))))))))))))))) | Q14: =IF(Scholarship_costs[[#This Row],[Type]]="","", (IF(Scholarship_costs[[#This Row],[Type]]="Study (Belgium)",0, (IF(Scholarship_costs[[#This Row],[Type]]="Research (Belgium)",0, (IF(Scholarship_costs[[#This Row],[Type]]="Short term (local)",0, (IF(Scholarship_costs[[#This Row],[Type]]="Study (local)",0, (IF(Scholarship_costs[[#This Row],[Type]]="Research (local)",0, (IF(AND(Scholarship_costs[[#This Row],[Number of months]]="",Scholarship_costs[[#This Row],[Number of days]]=""),"", (IF(AND(Scholarship_costs[[#This Row],[Number of months]]="n/a",Scholarship_costs[[#This Row],[Number of days]]=""),"", (IF(Scholarship_costs[[#This Row],[Number of months]]="n/a",(Scholarship_costs[[#This Row],[Number of days]]*16), (IF(Scholarship_costs[[#This Row],[Number of days]]="n/a",(Scholarship_costs[[#This Row],[Number of months]]*16*31), (IF(Scholarship_costs[[#This Row],[Number of months]]="",(Scholarship_costs[[#This Row],[Number of days]]*16), (IF(Scholarship_costs[[#This Row],[Number of days]]="",(Scholarship_costs[[#This Row],[Number of months]]*16*31), (((Scholarship_costs[[#This Row],[Number of months]]*31)+Scholarship_costs[[#This Row],[Number of days]]))*16))))))))))))))))))))))) | T14: =IF(Scholarship_costs[[#This Row],[Type]]="","", (IF(Scholarship_costs[[#This Row],[Type]]="Research (Belgium)",((Scholarship_costs[[#This Row],[Number of months]]*31)+Scholarship_costs[[#This Row],[Number of days]])*(310/31),0))) | U14: =IF(Scholarship_costs[[#This Row],[Type]]="","",(IF(Scholarship_costs[[#This Row],[Number of scholars]]="","",(ROUND((SUM(Scholarship_costs[[#This Row],[Allowance (total)]:[Supervision and research fee]])),2))))) | V14: =IF(Scholarship_costs[[#This Row],[Activity year]]="","", (IF(Scholarship_costs[[#This Row],[Number of scholars]]="","", (IF(Scholarship_costs[[#This Row],[Activity year]]=1,(ROUND(Scholarship_costs[[#This Row],[Number of scholars]]*Scholarship_costs[[#This Row],[Estimated cost per scholar]],2)),0))))) | W14: =IF(Scholarship_costs[[#This Row],[Activity year]]="","", (IF(Scholarship_costs[[#This Row],[Number of scholars]]="","", (IF(Scholarship_costs[[#This Row],[Activity year]]=2,(ROUND(Scholarship_costs[[#This Row],[Number of scholars]]*Scholarship_costs[[#This Row],[Estimated cost per scholar]],2)),0))))) | X14: =IF(Scholarship_costs[[#This Row],[Activity year]]="","", (IF(Scholarship_costs[[#This Row],[Number of scholars]]="","", (IF(Scholarship_costs[[#This Row],[Activity year]]=3,(ROUND(Scholarship_costs[[#This Row],[Number of scholars]]*Scholarship_costs[[#This Row],[Estimated cost per scholar]],2)),0))))) | Y14: =IF(Scholarship_costs[[#This Row],[Activity year]]="","", (IF(Scholarship_costs[[#This Row],[Number of scholars]]="","", (IF(Scholarship_costs[[#This Row],[Activity year]]=4,(ROUND(Scholarship_costs[[#This Row],[Number of scholars]]*Scholarship_costs[[#This Row],[Estimated cost per scholar]],2)),0))))) | Z14: =IF(Scholarship_costs[[#This Row],[Activity year]]="","", (IF(Scholarship_costs[[#This Row],[Number of scholars]]="","", (IF(Scholarship_costs[[#This Row],[Activity year]]=5,(ROUND(Scholarship_costs[[#This Row],[Number of scholars]]*Scholarship_costs[[#This Row],[Estimated cost per scholar]],2)),0)))))
